BEGIN:VCALENDAR
PRODID:-//AT Content Types//AT Event//EN
VERSION:2.0
METHOD:PUBLISH
BEGIN:VEVENT
DTSTAMP:20260421T203157Z
CREATED:20230224T193430Z
UID:ATEvent-1a264f7934b94cfb88ce01a631b12e65
LAST-MODIFIED:20230302T211618Z
SUMMARY:FIDE Rated Groomsport Blitz Championship 2023
DTSTART:20231005T193000Z
DTEND:20231005T221500Z
LOCATION:Church of Ireland Parish Hall\, 30 Main Street\, Groomsport\, County Down\, BT19 6JR\, Northern Ireland
CONTACT:Brendan Jamison\, fidechessni@gmail.com
CLASS:PUBLIC
END:VEVENT
END:VCALENDAR
