BEGIN:VCALENDAR
PRODID:-//AT Content Types//AT Event//EN
VERSION:2.0
METHOD:PUBLISH
BEGIN:VEVENT
DTSTAMP:20260420T020853Z
CREATED:20240915T155108Z
UID:ATEvent-0210d204c8e54aa6a73d807bf9193268
LAST-MODIFIED:20240915T155125Z
SUMMARY:FIDE RATED Ulster Blitz Championship 2024
DTSTART:20241228T100000Z
DTEND:20241228T163000Z
LOCATION:Church of Ireland Parish Hall\, 30 Main Street\, Groomsport\, County Down\, BT19 6JR\, Northern Ireland
CONTACT:Edward Khanzharov\, eddhanzharov@hotmail.co.uk
CLASS:PUBLIC
END:VEVENT
END:VCALENDAR
