BEGIN:VCALENDAR
PRODID:-//AT Content Types//AT Event//EN
VERSION:2.0
METHOD:PUBLISH
BEGIN:VEVENT
DTSTAMP:20260421T203338Z
CREATED:20230926T212825Z
UID:ATEvent-8f2544836baf4184b7efe117e8018837
LAST-MODIFIED:20231118T104354Z
SUMMARY:FIDE-RATED Queen’s University Winter Rapid Championship 2023
DTSTART:20231119T103000Z
DTEND:20231119T173000Z
LOCATION:Blue Sky Room\, QUB Students’ Union\, 1 Elmwood Ave\, Belfast\, BT9 6AZ\, Northern Ireland
CONTACT:Brendan Jamison\, fidechessni@gmail.com
URL:http://www.brendanjamison.com/fide.html
CLASS:PUBLIC
END:VEVENT
END:VCALENDAR
