BEGIN:VCALENDAR
PRODID:-//AT Content Types//AT Event//EN
VERSION:2.0
METHOD:PUBLISH
BEGIN:VEVENT
DTSTAMP:20260420T020947Z
CREATED:20241024T185643Z
UID:ATEvent-4490d15fa09044a9a4359004f642e841
LAST-MODIFIED:20241024T185737Z
SUMMARY:FIDE RATED NI Gold Coast Team Classic Round 3
DTSTART:20241107T193000Z
DTEND:20241107T223000Z
LOCATION:Church of Ireland Parish Hall\, 30 Main Street\, Groomsport\, County Down\, BT19 6JR\, Northern Ireland
CONTACT:Brendan Jamison\, fidechessni@gmail.com
CLASS:PUBLIC
END:VEVENT
END:VCALENDAR
