BEGIN:VCALENDAR
PRODID:-//AT Content Types//AT Event//EN
VERSION:1.0
BEGIN:VEVENT
DTSTART:20241003T193000Z
DTEND:20241003T223000Z
DCREATED:20240901T153903Z
UID:ATEvent-e0e2fc09d4c54d42b601338b1f9dd065
SEQUENCE:0
LAST-MODIFIED:20240901T154000Z
SUMMARY:FIDE RATED NI Gold Coast Team Classic League Round 1
LOCATION:Church of Ireland Parish Hall\, 30 Main Street\, Groomsport\, County Down\, BT19 6JR\, Northern Ireland
PRIORITY:3
TRANSP:0
END:VEVENT
END:VCALENDAR
