BEGIN:VCALENDAR
PRODID:-//AT Content Types//AT Event//EN
VERSION:2.0
METHOD:PUBLISH
BEGIN:VEVENT
DTSTAMP:20260421T203157Z
CREATED:20241018T133534Z
UID:ATEvent-97e80116932f4e97bcba479ee45ae8e0
LAST-MODIFIED:20241018T145614Z
SUMMARY:FIDE RATED Groomsport Winter Rapid 2024
DTSTART:20241114T193000Z
DTEND:20241121T222000Z
LOCATION:Church of Ireland Parish Hall\, 30 Main Street\, Groomsport\, County Down\, BT19 6JR\, Northern Ireland
CONTACT:Brendan Jamison\, fidechessni@gmail.com
URL:https://bangorchess.com/
CLASS:PUBLIC
END:VEVENT
END:VCALENDAR
