BEGIN:VCALENDAR
PRODID:-//AT Content Types//AT Event//EN
VERSION:1.0
BEGIN:VEVENT
DTSTART:20240731T193000Z
DTEND:20240731T223000Z
DCREATED:20240716T215457Z
UID:ATEvent-afb8aca601644a7e9d21116872b0a5b4
SEQUENCE:0
LAST-MODIFIED:20240716T215521Z
SUMMARY:FIDE RATED Downpatrick v Bangor: Team Classic Summer Match 2024
LOCATION:Denvir’s Hotel\, 14 English Street\, Downpatrick\, BT30 6AB\, Northern Ireland
PRIORITY:3
TRANSP:0
END:VEVENT
END:VCALENDAR
