BEGIN:VCALENDAR
PRODID:-//AT Content Types//AT Event//EN
VERSION:1.0
BEGIN:VEVENT
DTSTART:20230909T103000Z
DTEND:20230909T170000Z
DCREATED:20230614T191421Z
UID:ATEvent-b3f34ce9117247988c29b161ef78a95b
SEQUENCE:0
LAST-MODIFIED:20230614T191506Z
SUMMARY:FIDE-RATED City of Derry Rapid Championships 2023
LOCATION:Maldron Hotel\, Butcher Street\, Derry\, Northern Ireland\, BT48 6HL
PRIORITY:3
TRANSP:0
END:VEVENT
END:VCALENDAR
