BEGIN:VCALENDAR
PRODID:-//AT Content Types//AT Event//EN
VERSION:2.0
METHOD:PUBLISH
BEGIN:VEVENT
DTSTAMP:20260420T022150Z
CREATED:20240915T154935Z
UID:ATEvent-3d183b5979b74231be8ac924249474ae
LAST-MODIFIED:20240915T154950Z
SUMMARY:FIDE RATED City of Bangor Winter Rapid 2024
DTSTART:20241207T100000Z
DTEND:20241207T163000Z
LOCATION:Church of Ireland Parish Hall\, 30 Main Street\, Groomsport\, County Down\, BT19 6JR\, Northern Ireland
CONTACT:Brendan Jamison\, fidechessni@gmail.com
CLASS:PUBLIC
END:VEVENT
END:VCALENDAR
