BEGIN:VCALENDAR
PRODID:-//AT Content Types//AT Event//EN
VERSION:1.0
BEGIN:VEVENT
DTSTART:20240104T193000Z
DTEND:20240104T220000Z
DCREATED:20230919T173240Z
UID:ATEvent-788df0f7e3544626b19e05e8c2d02f4a
SEQUENCE:0
LAST-MODIFIED:20230919T173506Z
SUMMARY:FIDE-RATED Bangor New Year Blitz Championship 2024
LOCATION:Church of Ireland Parish Hall\, 30 Main Street\, Groomsport\, County Down\, BT19 6JR\, Northern Ireland
PRIORITY:3
TRANSP:0
END:VEVENT
END:VCALENDAR
