BEGIN:VCALENDAR
PRODID:-//AT Content Types//AT Event//EN
VERSION:1.0
BEGIN:VEVENT
DTSTART:20230914T193000Z
DTEND:20230914T221500Z
DCREATED:20230224T193051Z
UID:ATEvent-9e61615ffa23437c8cc00505976fe012
SEQUENCE:0
LAST-MODIFIED:20230302T211351Z
SUMMARY:FIDE Rated City of Bangor Autumn Blitz Championship 2023
LOCATION:Church of Ireland Parish Hall\, 30 Main Street\, Groomsport\, County Down\, BT19 6JR\, Northern Ireland
PRIORITY:3
TRANSP:0
END:VEVENT
END:VCALENDAR
