BEGIN:VCALENDAR
PRODID:-//AT Content Types//AT Event//EN
VERSION:1.0
BEGIN:VEVENT
DTSTART:20230105T193000Z
DTEND:20230105T220000Z
DCREATED:20221218T231409Z
UID:ATEvent-7156661bd6594808ac409221cad5f9d5
SEQUENCE:0
LAST-MODIFIED:20221218T231421Z
SUMMARY:Bangor New Year Blitz 2023
DESCRIPTION:FIDE-rated Bangor New Year Blitz 2023
LOCATION:Church of Ireland Parish Hall\, 30 Main Street\, Groomsport\, County Down\, BT19 6JR
PRIORITY:3
TRANSP:0
END:VEVENT
END:VCALENDAR
